BEGIN:VCALENDAR
VERSION:2.0
PRODID:-//https://www.newcollegedurham.ac.uk///NONSGML kigkonsult.se iCalcreator 2.10.15//
METHOD:PUBLISH
BEGIN:VEVENT
UID:20260424T170836UTC-9909wkkUHr@https://www.newcollegedurham.ac.uk/
DTSTAMP:20260424T170836Z
DESCRIPTION:\nBlood Brothers (the play version) by Willy Russell\n\n&nbsp\;
 \n\nDates:12.06.25\, 17.06.25\, 18.06.25\n\n\nTimes: 1pm&nbsp\; 6.30pm&nbs
 p\;\n\n\nLocation: The Drama Studio\, New College Durham\n\n\nAge Guidance
 :12+\n&nbsp\;GET TICKETS NOW\nFor more information about booking tickets f
 or the matinee contact faye.cunningham@newdur.ac.uk\n https://www.newcolle
 gedurham.ac.uk/events/event/177-blood-brothers-the-play-version-by-willy-r
 ussell
DTSTART:20250612T120000Z
DTEND:20250618T173000Z
LOCATION:New College Durham (New College Durham\, Framwellgate Moor Campus 
  Framwellgate  Durham  DH1 5ES)
SUMMARY:Blood Brothers (the play version) by Willy Russell
URL:https://www.newcollegedurham.ac.uk/events/event/177-blood-brothers-the-
 play-version-by-willy-russell
END:VEVENT
END:VCALENDAR
