BEGIN:VCALENDAR
VERSION:2.0
PRODID:-//https://www.newcollegedurham.ac.uk///NONSGML kigkonsult.se iCalcreator 2.10.15//
METHOD:PUBLISH
BEGIN:VEVENT
UID:20260423T044724UTC-9131u9vM9e@https://www.newcollegedurham.ac.uk/
DTSTAMP:20260423T044724Z
DESCRIPTION:Are you starting a&nbsp\;graphic design&nbsp\;course with us in
  September?\nWe invite you to join us for a taster day on campus to:\n\nHa
 ve some fun and meet your tutors\nTake part in trainer design\, logo activ
 ities and badge making\nGet to know your new classmates before term starts
 \nSee where you will be studying&nbsp\;\n\nBOOK NOW TO SECURE YOUR PLACE\n
 We look forward to welcoming you! \nPlease be mindful that our catering fa
 cilities are limited over the summer so come prepared to keep you going! h
 ttps://www.newcollegedurham.ac.uk/events/event/88-taste-of-graphic-design
DTSTART:20220824T090000Z
DTEND:20220824T150000Z
LOCATION:New College Durham (New College Durham\, Framwellgate Moor Campus 
  Framwellgate  Durham  DH1 5ES)
SUMMARY:Taste of Graphic Design
URL:https://www.newcollegedurham.ac.uk/events/event/88-taste-of-graphic-des
 ign
END:VEVENT
END:VCALENDAR
